BEGIN:VCALENDAR
VERSION:2.0
PRODID:icalendar-ruby
CALSCALE:GREGORIAN
METHOD:PUBLISH
BEGIN:VEVENT
DTSTAMP:20260422T140727Z
UID:http://www.jburn@remax.com.auproperty?property_id=1763176
DTSTART:20260502T103000
DTEND:20260502T110000
CLASS:PUBLIC
CREATED:20260422T090558
DESCRIPTION: 
LAST-MODIFIED:20260422T090558
LOCATION:3388 Mount Lindesay Highway\, REGENTS PARK QLD 4118\, Australia
SUMMARY:3388 Mount Lindesay Highway\,  Auction
URL;VALUE=URI:http://www.jburn@remax.com.auproperty?property_id=1763176
END:VEVENT
END:VCALENDAR
