BEGIN:VCALENDAR
VERSION:2.0
PRODID:icalendar-ruby
CALSCALE:GREGORIAN
METHOD:PUBLISH
BEGIN:VTIMEZONE
TZID:Australia/Brisbane
BEGIN:STANDARD
DTSTART:19920301T020000
TZOFFSETFROM:+1100
TZOFFSETTO:+1000
TZNAME:AEST
END:STANDARD
END:VTIMEZONE
BEGIN:VEVENT
DTSTAMP:20260424T140220Z
UID:inspection_3013146
DTSTART;TZID=Australia/Brisbane:20260502T100000
DTEND;TZID=Australia/Brisbane:20260502T104500
CLASS:PUBLIC
CREATED:20260424T195043
DESCRIPTION: 
LAST-MODIFIED:20260424T195043
LOCATION:16 Jacaranda Place\, EIGHT MILE PLAINS QLD 4113\, Australia
SUMMARY:16 Jacaranda Place\,  Inspection
URL;VALUE=URI:http://www.jburn@remax.com.au
END:VEVENT
END:VCALENDAR
