BEGIN:VCALENDAR
VERSION:2.0
PRODID:icalendar-ruby
CALSCALE:GREGORIAN
METHOD:PUBLISH
BEGIN:VTIMEZONE
TZID:Australia/Brisbane
BEGIN:STANDARD
DTSTART:19920301T020000
TZOFFSETFROM:+1100
TZOFFSETTO:+1000
TZNAME:AEST
END:STANDARD
END:VTIMEZONE
BEGIN:VEVENT
DTSTAMP:20260422T141214Z
UID:inspection_3009449
DTSTART;TZID=Australia/Brisbane:20260425T100000
DTEND;TZID=Australia/Brisbane:20260425T103000
CLASS:PUBLIC
CREATED:20260422T140543
DESCRIPTION: 
LAST-MODIFIED:20260422T140543
LOCATION:305 / 8 Norman Street\, SOUTHPORT QLD 4215\, Australia
SUMMARY:305 / 8 Norman Street\,  Inspection
URL;VALUE=URI:http://www.jburn@remax.com.au
END:VEVENT
END:VCALENDAR
