BEGIN:VCALENDAR
VERSION:2.0
PRODID:icalendar-ruby
CALSCALE:GREGORIAN
METHOD:PUBLISH
BEGIN:VTIMEZONE
TZID:Australia/Brisbane
BEGIN:STANDARD
DTSTART:19920301T020000
TZOFFSETFROM:+1100
TZOFFSETTO:+1000
TZNAME:AEST
END:STANDARD
END:VTIMEZONE
BEGIN:VEVENT
DTSTAMP:20260422T141040Z
UID:inspection_3008612
DTSTART;TZID=Australia/Brisbane:20260425T113000
DTEND;TZID=Australia/Brisbane:20260425T120000
CLASS:PUBLIC
CREATED:20260422T095051
DESCRIPTION: 
LAST-MODIFIED:20260422T095051
LOCATION:1 Orm Court\, MARSDEN QLD 4132\, Australia
SUMMARY:1 Orm Court\,  Inspection
URL;VALUE=URI:http://www.jburn@remax.com.au
END:VEVENT
END:VCALENDAR
