BEGIN:VCALENDAR
VERSION:2.0
PRODID:icalendar-ruby
CALSCALE:GREGORIAN
METHOD:PUBLISH
BEGIN:VTIMEZONE
TZID:Australia/Brisbane
BEGIN:STANDARD
DTSTART:19920301T020000
TZOFFSETFROM:+1100
TZOFFSETTO:+1000
TZNAME:AEST
END:STANDARD
END:VTIMEZONE
BEGIN:VEVENT
DTSTAMP:20260422T141531Z
UID:inspection_3008549
DTSTART;TZID=Australia/Brisbane:20260422T173000
DTEND;TZID=Australia/Brisbane:20260422T180000
CLASS:PUBLIC
CREATED:20260422T093603
DESCRIPTION: 
LAST-MODIFIED:20260422T093603
LOCATION:12 / 11 Barrack Road\, CANNON HILL QLD 4170\, Australia
SUMMARY:12 / 11 Barrack Road\,  Inspection
URL;VALUE=URI:http://www.jburn@remax.com.au
END:VEVENT
END:VCALENDAR
