BEGIN:VCALENDAR
VERSION:2.0
PRODID:icalendar-ruby
CALSCALE:GREGORIAN
METHOD:PUBLISH
BEGIN:VTIMEZONE
TZID:Australia/Brisbane
BEGIN:STANDARD
DTSTART:19920301T020000
TZOFFSETFROM:+1100
TZOFFSETTO:+1000
TZNAME:AEST
END:STANDARD
END:VTIMEZONE
BEGIN:VEVENT
DTSTAMP:20260422T141817Z
UID:inspection_3008546
DTSTART;TZID=Australia/Brisbane:20260502T103000
DTEND;TZID=Australia/Brisbane:20260502T110000
CLASS:PUBLIC
CREATED:20260422T093557
DESCRIPTION: 
LAST-MODIFIED:20260422T093557
LOCATION:36 / 184 Radford Road\, MANLY WEST QLD 4179\, Australia
SUMMARY:36 / 184 Radford Road\,  Inspection
URL;VALUE=URI:http://www.jburn@remax.com.au
END:VEVENT
END:VCALENDAR
